BEGIN:VCALENDAR
VERSION:2.0
PRODID:-//Library Market//iCal Export//EN
BEGIN:VEVENT
SUMMARY:Crash Course in Cosplay
UID:2775
DTSTAMP:20260424T235700Z
DTSTART:20260513T050000Z
DTEND:20260613T050000Z
LOCATION:United States
ROOM: Crash Course in Cosplay
DESCRIPTION:Learn about the basics in Cosplay and how to get started! This
  video is also available on our NSLD YouTube channel.  
URL:https://northsuburban.librarycalendar.com/index.php/event/crash-course
 -cosplay-2775
END:VEVENT
END:VCALENDAR
